BEGIN:VCALENDAR
VERSION:2.0
PRODID:-//Sabre//Sabre VObject 4.5.7//EN
CALSCALE:GREGORIAN
BEGIN:VEVENT
UID:sabre-vobject-2da54fd5-0987-4bc4-8a0e-4d5f53f17cbd
DTSTAMP:20260420T122239Z
SUMMARY:Gottesdienst zu Pfingsten\, anschl. Kirchenkaffee\, Pastorin Kersti
 n Hansen-Neupert
DTSTART;TZID=Europe/Berlin:20260524T100000
ORGANIZER;CN=Ev.-Luth. Kirchengemeinde Hütten:MAILTO:kirche-huetten@kkre.d
 e
LOCATION:Kirche zu Hütten\, Oberhütten 1\, Hütten
GEO:54.438158;9.732244
BEGIN:VALARM
TRIGGER;VALUE=DURATION:P1D
ACTION:DISPLAY
DESCRIPTION:Gottesdienst zu Pfingsten\, anschl. Kirchenkaffee\, Pastorin Ke
 rstin Hansen-Neupert
END:VALARM
END:VEVENT
END:VCALENDAR
