BEGIN:VCALENDAR
VERSION:2.0
PRODID:-//Sabre//Sabre VObject 4.5.7//EN
CALSCALE:GREGORIAN
BEGIN:VEVENT
UID:sabre-vobject-a7cd888e-dfeb-4eae-86d1-32911eda3884
DTSTAMP:20260424T132533Z
SUMMARY:Musikalische Andacht mit "Tea for Two"\, Pastorin Kerstin Hansen-Ne
 upert
DTSTART;TZID=Europe/Berlin:20260516T170000
ORGANIZER;CN=Ev.-Luth. Kirchengemeinde Hütten:MAILTO:kirche-huetten@kkre.d
 e
LOCATION:Kirche zu Hütten\, Oberhütten 1\, Hütten
GEO:54.438158;9.732244
DESCRIPTION:Lieder zum Mitsingen und Zuhören mit Textimpulsen in lockerer 
 Runde für einen lauschigen Frühlingsabend je nach Wetterlage in der Kirc
 he oder davor kleines Mitbring-Buffet
BEGIN:VALARM
TRIGGER;VALUE=DURATION:P1D
ACTION:DISPLAY
DESCRIPTION:Musikalische Andacht mit "Tea for Two"\, Pastorin Kerstin Hanse
 n-Neupert
END:VALARM
END:VEVENT
END:VCALENDAR
